BEGIN:VCALENDAR
VERSION:2.0
PRODID:-//eventon.com NONSGML v1.0//EN
CALSCALE:GREGORIAN
METHOD:PUBLISH
BEGIN:VEVENT
UID:69e8d1170bd05
DTSTAMP:20260422T134559Z
DTSTART:20260525T150000Z
DTEND:20260525T215000Z
LOCATION:
SUMMARY:JAZZ IM BÜRGERMEISTERHAUS
DESCRIPTION:JAZZ IM BÜRGERMEISTERHAUS\nhttps://joerg-hegemann.info/events/
 jazz-im-buergermeisterhaus
URL:https://joerg-hegemann.info/events/jazz-im-buergermeisterhaus
END:VEVENT
END:VCALENDAR