BEGIN:VCALENDAR
VERSION:2.0
PRODID:-//eventon.com NONSGML v1.0//EN
CALSCALE:GREGORIAN
METHOD:PUBLISH
BEGIN:VEVENT
UID:69e8d15c8df5c
DTSTAMP:20260422T134708Z
DTSTART:20260709T180000Z
DTEND:20260709T215000Z
LOCATION:
SUMMARY:Jörg Hegemann präsentiert Meister des Boogie Woogie
DESCRIPTION:Jörg Hegemann präsentiert Meister des Boogie Woogie\nhttps://
 joerg-hegemann.info/events/joerg-hegemann-praesentiert-meister-des-boogie-w
 oogie
URL:https://joerg-hegemann.info/events/joerg-hegemann-praesentiert-meister-des-boogie-woogie
END:VEVENT
END:VCALENDAR