BEGIN:VCALENDAR
VERSION:2.0
PRODID:-//eventon.com NONSGML v1.0//EN
CALSCALE:GREGORIAN
METHOD:PUBLISH
BEGIN:VEVENT
UID:69e8d168dd33c
DTSTAMP:20260422T134720Z
DTSTART:20260710T173000Z
DTEND:20260710T215000Z
LOCATION:
SUMMARY:BOOGIE AN ZWEI FLÜGELN IM "ALLDIE"\,  VELBERT
DESCRIPTION:BOOGIE AN ZWEI FLÜGELN IM "ALLDIE"\,  VELBERT\nhttps://joerg-h
 egemann.info/events/boogie-an-zwei-fluegeln-im-alldie-velbert
URL:https://joerg-hegemann.info/events/boogie-an-zwei-fluegeln-im-alldie-velbert
END:VEVENT
END:VCALENDAR