BEGIN:VCALENDAR
VERSION:2.0
PRODID:-//eventon.com NONSGML v1.0//EN
CALSCALE:GREGORIAN
METHOD:PUBLISH
BEGIN:VEVENT
UID:69e8d114f355f
DTSTAMP:20260422T134556Z
DTSTART:20261020T173000Z
DTEND:20261020T215000Z
LOCATION:
SUMMARY:29. BOOGIE WOOGIE CONGRESS IN DER PHILHARMONIE ESSEN
DESCRIPTION:29. BOOGIE WOOGIE CONGRESS IN DER PHILHARMONIE ESSEN\nhttps://j
 oerg-hegemann.info/events/in-vorbereitung-29-boogie-woogie-congress-in-der-
 philharmonie-essen
URL:https://joerg-hegemann.info/events/in-vorbereitung-29-boogie-woogie-congress-in-der-philharmonie-essen
END:VEVENT
END:VCALENDAR