BEGIN:VCALENDAR
VERSION:2.0
PRODID:-//eventon.com NONSGML v1.0//EN
CALSCALE:GREGORIAN
METHOD:PUBLISH
BEGIN:VEVENT
UID:69e8d15d95594
DTSTAMP:20260422T134709Z
DTSTART:20261106T190000Z
DTEND:20261106T225000Z
LOCATION:
SUMMARY:GROSSE BLUES UND BOOGIE NIGHT IN HAMBURG
DESCRIPTION:GROSSE BLUES UND BOOGIE NIGHT IN HAMBURG\nhttps://joerg-hegeman
 n.info/events/grosse-blues-und-boogie-night-in-hamburg
URL:https://joerg-hegemann.info/events/grosse-blues-und-boogie-night-in-hamburg
END:VEVENT
END:VCALENDAR