BEGIN:VCALENDAR
VERSION:2.0
PRODID:-//eventon.com NONSGML v1.0//EN
CALSCALE:GREGORIAN
METHOD:PUBLISH
BEGIN:VEVENT
UID:69e8d114bee10
DTSTAMP:20260422T134556Z
DTSTART:20261024T180000Z
DTEND:20261024T215000Z
LOCATION:
SUMMARY:JÖRG HEGEMANN & PETER REBER AN ZWEI PIANOS IN TRAUNSTEIN
DESCRIPTION:JÖRG HEGEMANN & PETER REBER AN ZWEI PIANOS IN TRAUNSTEIN\nhttp
 s://joerg-hegemann.info/events/joerg-hegemann-peter-reber-an-zwei-pianos-in
 -traunstein
URL:https://joerg-hegemann.info/events/joerg-hegemann-peter-reber-an-zwei-pianos-in-traunstein
END:VEVENT
END:VCALENDAR