BEGIN:VCALENDAR
VERSION:2.0
PRODID:-//eventon.com NONSGML v1.0//EN
CALSCALE:GREGORIAN
METHOD:PUBLISH
BEGIN:VEVENT
UID:69e8d0bdb0806
DTSTAMP:20260422T134429Z
DTSTART:20260523T180000Z
DTEND:20260523T215000Z
LOCATION:
SUMMARY:Boogie-Meeting im Farmhouse Harsewinkel
DESCRIPTION:Boogie-Meeting im Farmhouse Harsewinkel\nhttps://joerg-hegemann
 .info/events/boogie-meeting-im-farmhouse-harsewinkel
URL:https://joerg-hegemann.info/events/boogie-meeting-im-farmhouse-harsewinkel
END:VEVENT
END:VCALENDAR