BEGIN:VCALENDAR
VERSION:2.0
PRODID:-//eventon.com NONSGML v1.0//EN
CALSCALE:GREGORIAN
METHOD:PUBLISH
BEGIN:VEVENT
UID:69e8d169f2389
DTSTAMP:20260422T134721Z
DTSTART:20260524T100000Z
DTEND:20260524T215000Z
LOCATION:
SUMMARY:Boogie-Meeting im Farmhouse Harsewinkel
DESCRIPTION:Boogie-Meeting im Farmhouse Harsewinkel\nhttps://joerg-hegemann
 .info/events/boogie-meeting-im-farmhouse-harsewinkel-2
URL:https://joerg-hegemann.info/events/boogie-meeting-im-farmhouse-harsewinkel-2
END:VEVENT
END:VCALENDAR