BEGIN:VCALENDAR
VERSION:2.0
PRODID:-//eventon.com NONSGML v1.0//EN
CALSCALE:GREGORIAN
METHOD:PUBLISH
BEGIN:VEVENT
UID:69e8d163e1949
DTSTAMP:20260422T134715Z
DTSTART:20261212T190000Z
DTEND:20261212T225000Z
LOCATION:
SUMMARY:Boogie beim „Bochumer Kulturrat“
DESCRIPTION:Boogie beim „Bochumer Kulturrat“\nhttps://joerg-hegemann.in
 fo/events/boogie-beim-bochumer-kulturrat-2
URL:https://joerg-hegemann.info/events/boogie-beim-bochumer-kulturrat-2
END:VEVENT
END:VCALENDAR