BEGIN:VCALENDAR
VERSION:2.0
PRODID:-//eventon.com NONSGML v1.0//EN
CALSCALE:GREGORIAN
METHOD:PUBLISH
BEGIN:VEVENT
UID:69e8d10fc81cf
DTSTAMP:20260422T134551Z
DTSTART:20260502T173000Z
DTEND:20260502T215000Z
LOCATION:
SUMMARY:Mülheimer Boogie Time\,  Vol 5
DESCRIPTION:Mülheimer Boogie Time\,  Vol 5\nhttps://joerg-hegemann.info/ev
 ents/muelheimer-boogie-time-vol-5
URL:https://joerg-hegemann.info/events/muelheimer-boogie-time-vol-5
END:VEVENT
END:VCALENDAR