BEGIN:VCALENDAR
VERSION:2.0
PRODID:-//eventon.com NONSGML v1.0//EN
CALSCALE:GREGORIAN
METHOD:PUBLISH
BEGIN:VEVENT
UID:69e8d0bd811d6
DTSTAMP:20260422T134429Z
DTSTART:20260530T170000Z
DTEND:20260530T215000Z
LOCATION:
SUMMARY:Boogie Woogie Konzert IM KöniglicheN Kurtheater Wildbad
DESCRIPTION:Boogie Woogie Konzert IM KöniglicheN Kurtheater Wildbad\nhttps
 ://joerg-hegemann.info/events/boogie-woogie-konzert-im-koeniglichen-kurthea
 ter-wildbad
URL:https://joerg-hegemann.info/events/boogie-woogie-konzert-im-koeniglichen-kurtheater-wildbad
END:VEVENT
END:VCALENDAR