BEGIN:VCALENDAR
VERSION:2.0
PRODID:-//eventon.com NONSGML v1.0//EN
CALSCALE:GREGORIAN
METHOD:PUBLISH
BEGIN:VEVENT
UID:69e8d15cea472
DTSTAMP:20260422T134708Z
DTSTART:20260815T163000Z
DTEND:20260815T090000Z
LOCATION:
SUMMARY:HAUSEN-ROCKT 2026 (EIFEL)
DESCRIPTION:HAUSEN-ROCKT 2026 (EIFEL)\nhttps://joerg-hegemann.info/events/h
 ausen-rockt-2026-eifel
URL:https://joerg-hegemann.info/events/hausen-rockt-2026-eifel
END:VEVENT
END:VCALENDAR