BEGIN:VCALENDAR
VERSION:2.0
PRODID:-//eventon.com NONSGML v1.0//EN
CALSCALE:GREGORIAN
METHOD:PUBLISH
BEGIN:VEVENT
UID:69e8d15e144a3
DTSTAMP:20260422T134710Z
DTSTART:20261008T170000Z
DTEND:20261008T215000Z
LOCATION:
SUMMARY:Jazz Club by Gartenheim
DESCRIPTION:Jazz Club by Gartenheim\nhttps://joerg-hegemann.info/events/jaz
 zclub-hannover-praesentiert
URL:https://joerg-hegemann.info/events/jazzclub-hannover-praesentiert
END:VEVENT
END:VCALENDAR