BEGIN:VCALENDAR
VERSION:2.0
PRODID:-//eventon.com NONSGML v1.0//EN
CALSCALE:GREGORIAN
METHOD:PUBLISH
BEGIN:VEVENT
UID:69e8d15e87b04
DTSTAMP:20260422T134710Z
DTSTART:20260925T173000Z
DTEND:20260925T215000Z
LOCATION:
SUMMARY:7. BOOGIE-KONZERT IN WITTEN-RÜDINGHAUSEN
DESCRIPTION:7. BOOGIE-KONZERT IN WITTEN-RÜDINGHAUSEN\nhttps://joerg-hegema
 nn.info/events/7-boogie-konzert-in-witten-ruedinghausen
URL:https://joerg-hegemann.info/events/7-boogie-konzert-in-witten-ruedinghausen
END:VEVENT
END:VCALENDAR