BEGIN:VCALENDAR
VERSION:2.0
PRODID:-//eventon.com NONSGML v1.0//EN
CALSCALE:GREGORIAN
METHOD:PUBLISH
BEGIN:VEVENT
UID:69e8d164dae2f
DTSTAMP:20260422T134716Z
DTSTART:20260412T130000Z
DTEND:20260412T215000Z
LOCATION:
SUMMARY:BENEFIZKONZERT\,  NEUSTADT an der Weinstraße
DESCRIPTION:BENEFIZKONZERT\,  NEUSTADT an der Weinstraße\nhttps://joerg-he
 gemann.info/events/benefizkonzert-neustadt-an-der-weinstrasse
URL:https://joerg-hegemann.info/events/benefizkonzert-neustadt-an-der-weinstrasse
END:VEVENT
END:VCALENDAR