BEGIN:VCALENDAR
VERSION:2.0
PRODID:-//eventon.com NONSGML v1.0//EN
CALSCALE:GREGORIAN
METHOD:PUBLISH
BEGIN:VEVENT
UID:69e8d10e3c8f9
DTSTAMP:20260422T134550Z
DTSTART:20261023T180000Z
DTEND:20261023T215000Z
LOCATION:
SUMMARY:"Piano-Swing" in der Knapendorfer Kulturscheune
DESCRIPTION:"Piano-Swing" in der Knapendorfer Kulturscheune\nhttps://joerg-
 hegemann.info/events/piano-swing-in-der-knapendorfer-kulturscheune
URL:https://joerg-hegemann.info/events/piano-swing-in-der-knapendorfer-kulturscheune
END:VEVENT
END:VCALENDAR