BEGIN:VCALENDAR
VERSION:2.0
PRODID:-//eventon.com NONSGML v1.0//EN
CALSCALE:GREGORIAN
METHOD:PUBLISH
BEGIN:VEVENT
UID:69e8d167e5009
DTSTAMP:20260422T134719Z
DTSTART:20260628T120000Z
DTEND:20260628T215000Z
LOCATION:
SUMMARY:SOMMERFEST IM PHONOMUSEUM DORMAGEN
DESCRIPTION:SOMMERFEST IM PHONOMUSEUM DORMAGEN\nhttps://joerg-hegemann.info
 /events/sommerfest-im-phonomuseum-dormagen
URL:https://joerg-hegemann.info/events/sommerfest-im-phonomuseum-dormagen
END:VEVENT
END:VCALENDAR