BEGIN:VCALENDAR
VERSION:2.0
PRODID:-//eventon.com NONSGML v1.0//EN
CALSCALE:GREGORIAN
METHOD:PUBLISH
BEGIN:VEVENT
UID:69e8d11049b26
DTSTAMP:20260422T134552Z
DTSTART:20260826T170000Z
DTEND:20260826T215000Z
LOCATION:
SUMMARY:“SOCIAL DANCE -  BOOGIE WOOGIE MEETS SWING”
DESCRIPTION:“SOCIAL DANCE -  BOOGIE WOOGIE MEETS SWING”\nhttps://joerg
 -hegemann.info/events/social-dance-boogie-woogie-meets-swing
URL:https://joerg-hegemann.info/events/social-dance-boogie-woogie-meets-swing
END:VEVENT
END:VCALENDAR