BEGIN:VCALENDAR
VERSION:2.0
PRODID:-//eventon.com NONSGML v1.0//EN
CALSCALE:GREGORIAN
METHOD:PUBLISH
BEGIN:VEVENT
UID:69e8d167a08e7
DTSTAMP:20260422T134719Z
DTSTART:20260410T180000Z
DTEND:20260410T215000Z
LOCATION:
SUMMARY:THIELES GARTEN IN BREMERHAVEN
DESCRIPTION:THIELES GARTEN IN BREMERHAVEN\nhttps://joerg-hegemann.info/even
 ts/thieles-garten-in-bremerhaven
URL:https://joerg-hegemann.info/events/thieles-garten-in-bremerhaven
END:VEVENT
END:VCALENDAR