BEGIN:VCALENDAR
VERSION:2.0
PRODID:-//eventon.com NONSGML v1.0//EN
CALSCALE:GREGORIAN
METHOD:PUBLISH
BEGIN:VEVENT
UID:69e8d162e2fb5
DTSTAMP:20260422T134714Z
DTSTART:20260415T170000Z
DTEND:20260415T215000Z
LOCATION:
SUMMARY:„BOOGIE & BIER“ IM BRAUHAUS SIEGBURG
DESCRIPTION:„BOOGIE & BIER“ IM BRAUHAUS SIEGBURG\nhttps://joerg-hegeman
 n.info/events/boogie-bier-im-brauhaus-siegburg
URL:https://joerg-hegemann.info/events/boogie-bier-im-brauhaus-siegburg
END:VEVENT
END:VCALENDAR