BEGIN:VCALENDAR
VERSION:2.0
PRODID:-//eventon.com NONSGML v1.0//EN
CALSCALE:GREGORIAN
METHOD:PUBLISH
BEGIN:VEVENT
UID:69e8d10f4743d
DTSTAMP:20260422T134551Z
DTSTART:20260414T150000Z
DTEND:20260414T215000Z
LOCATION:
SUMMARY:MESSESTANDPARTY BEI DER "TUBE"\,  DÜSSELDORF
DESCRIPTION:MESSESTANDPARTY BEI DER "TUBE"\,  DÜSSELDORF\nhttps://joerg-he
 gemann.info/events/messestandparty-bei-der-tube-duesseldorf
URL:https://joerg-hegemann.info/events/messestandparty-bei-der-tube-duesseldorf
END:VEVENT
END:VCALENDAR