BEGIN:VCALENDAR
VERSION:2.0
PRODID:-//eventon.com NONSGML v1.0//EN
CALSCALE:GREGORIAN
METHOD:PUBLISH
BEGIN:VEVENT
UID:69e8d162e2f42
DTSTAMP:20260422T134714Z
DTSTART:20261015T173000Z
DTEND:20261015T215000Z
LOCATION:
SUMMARY:AUGUSTINUM DORTMUND
DESCRIPTION:AUGUSTINUM DORTMUND\nhttps://joerg-hegemann.info/events/augusti
 num-dortmund
URL:https://joerg-hegemann.info/events/augustinum-dortmund
END:VEVENT
END:VCALENDAR