BEGIN:VCALENDAR
VERSION:2.0
PRODID:-//eventon.com NONSGML v1.0//EN
CALSCALE:GREGORIAN
METHOD:PUBLISH
BEGIN:VEVENT
UID:69e8d116067b1
DTSTAMP:20260422T134558Z
DTSTART:20261202T190000Z
DTEND:20261202T225000Z
LOCATION:
SUMMARY:IN VORBEREITUNG: MONHEIMER KULTURWERKE
DESCRIPTION:IN VORBEREITUNG: MONHEIMER KULTURWERKE\nhttps://joerg-hegemann.
 info/events/in-vorbereitung-monheimer-kulturwerke
URL:https://joerg-hegemann.info/events/in-vorbereitung-monheimer-kulturwerke
END:VEVENT
END:VCALENDAR