BEGIN:VCALENDAR
VERSION:2.0
PRODID:-//eventon.com NONSGML v1.0//EN
CALSCALE:GREGORIAN
METHOD:PUBLISH
BEGIN:VEVENT
UID:69e8d1695ebe7
DTSTAMP:20260422T134721Z
DTSTART:20261213T160000Z
DTEND:20261213T225000Z
LOCATION:
SUMMARY:KULTUR UND KULINARISCHES GESEKE
DESCRIPTION:KULTUR UND KULINARISCHES GESEKE\nhttps://joerg-hegemann.info/ev
 ents/kultur-und-kulinarisches-geseke
URL:https://joerg-hegemann.info/events/kultur-und-kulinarisches-geseke
END:VEVENT
END:VCALENDAR