BEGIN:VCALENDAR
VERSION:2.0
PRODID:-//eventon.com NONSGML v1.0//EN
CALSCALE:GREGORIAN
METHOD:PUBLISH
BEGIN:VEVENT
UID:69e8d16463a89
DTSTAMP:20260422T134716Z
DTSTART:20260520T180000Z
DTEND:20260520T215000Z
LOCATION:
SUMMARY:"I love Boogie" in der Kulturwerkstatt Altenberge
DESCRIPTION:"I love Boogie" in der Kulturwerkstatt Altenberge\nhttps://joer
 g-hegemann.info/events/i-love-boogie-in-der-kulturwerkstatt-altenberge
URL:https://joerg-hegemann.info/events/i-love-boogie-in-der-kulturwerkstatt-altenberge
END:VEVENT
END:VCALENDAR