BEGIN:VCALENDAR
VERSION:2.0
PRODID:-//eventon.com NONSGML v1.0//EN
CALSCALE:GREGORIAN
METHOD:PUBLISH
BEGIN:VEVENT
UID:69e8d10e7f682
DTSTAMP:20260422T134550Z
DTSTART:20260927T090000Z
DTEND:20260927T215000Z
LOCATION:
SUMMARY:VILLA SIBILLA BAD NEUENAHR
DESCRIPTION:VILLA SIBILLA BAD NEUENAHR\nhttps://joerg-hegemann.info/events/
 villa-sibilla-bad-neuenahr
URL:https://joerg-hegemann.info/events/villa-sibilla-bad-neuenahr
END:VEVENT
END:VCALENDAR