BEGIN:VCALENDAR
VERSION:2.0
PRODID:-//eventon.com NONSGML v1.0//EN
CALSCALE:GREGORIAN
METHOD:PUBLISH
BEGIN:VEVENT
UID:69e8d11683a73
DTSTAMP:20260422T134558Z
DTSTART:20260628T090000Z
DTEND:20260628T110000Z
LOCATION:
SUMMARY:FESTAKT 100 JAHRE STADTHALLE MÜLHEIM
DESCRIPTION:FESTAKT 100 JAHRE STADTHALLE MÜLHEIM\nhttps://joerg-hegemann.i
 nfo/events/festakt-100-jahre-stadthalle-muelheim
URL:https://joerg-hegemann.info/events/festakt-100-jahre-stadthalle-muelheim
END:VEVENT
END:VCALENDAR